Workbook

Sheet Main Sheet
A1: Name of the corporate debtor: Supreme Manor Wada Bhiwandi Infrastructure Private Limited; Date of commencement of CIRP: 19th May 2023; List of creditors as on: June 8, 2023
A2: Filing under clause (ca) of sub-regulation (2) of regulation 13 of the IBBI (Insolvency Resolution Process forSupreme Manor Wada Bhiwandi Infrastructure Private Limited) Regulations, 2016
A4: Sl.No | B4: Category of Creditor | C4: Summary of Claims received | E4: Summary of Claims Admitted | G4: Amount of contingent claims | H4: Amount of claims not admitted | I4: Amount of claims under verification | J4: Details in annexure | K4: Remarks, if any
C5: No of Claims | D5: Amount | E5: No of Claims | F5: Amount of claims admitted (Provisional)
A6: 1 | B6: Secured financial creditors belonging to any class of creditors | C6: 0 | D6: 0 | E6: 0 | F6: 0 | G6: 0 | H6: 0 | I6: 0 | J6: 1
A7: =A6+1 -> 2 | B7: Unsecured financial creditors belonging to any class of creditors | C7: 0 | D7: 0 | E7: 0 | F7: 0 | G7: 0 | H7: 0 | I7: 0 | J7: =J6+1 -> 2
A8: =A7+1 -> 3 | B8: Secured financial creditors (other than financial creditors belonging to any class of creditors) | C8: 7 | D8: =F8 -> 8.2472959e+09 | E8: 7 | F8: ='Annexure 3'!D13 -> 8.2472959e+09 | G8: 0 | H8: 0 | I8: 0 | J8: =J7+1 -> 3
A9: =A8+1 -> 4 | B9: Unsecured financial creditors (other than financial creditors belonging to any class of creditors) | C9: 0 | D9: 0 | E9: 0 | F9: 0 | G9: 0 | H9: 0 | I9: 0 | J9: =J8+1 -> 4
A10: =A9+1 -> 5 | B10: Operational creditors (Workmen) | C10: 0 | D10: 0 | E10: 0 | F10: 0 | G10: 0 | H10: 0 | I10: 0 | J10: =J9+1 -> 5
A11: =A10+1 -> 6 | B11: Operational creditors (Employees) | C11: 0 | D11: 0 | E11: 0 | F11: 0 | G11: 0 | H11: 0 | I11: 0 | J11: =J10+1 -> 6
A12: =A11+1 -> 7 | B12: Operational creditors (Government Dues) | C12: 0 | D12: 0 | E12: 0 | F12: 0 | G12: 0 | H12: 0 | I12: 0 | J12: =J11+1 -> 7
A13: =A12+1 -> 8 | B13: Operational creditors (other than Workmen and Employees and Government Dues) | C13: 0 | D13: 0 | E13: 0 | F13: 0 | G13: 0 | H13: 0 | I13: 0 | J13: =J12+1 -> 8
A14: =A13+1 -> 9 | B14: Other creditors, if any, (other than financial creditors and operational creditors) | C14: 0 | D14: 0 | E14: 0 | F14: 0 | G14: 0 | H14: 0 | I14: 0 | J14: =J13+1 -> 9
B15: Total | C15: =SUM(C6:C14) -> 7 | E15: =SUM(E8:E14) -> 7 | F15: =SUM(F8:F14) -> 8.2472959e+09 | I15: =SUM(I8:I14) -> 0

Sheet Annex 1
A1: ='Main Sheet'!A1 -> Name of the corporate debtor: Supreme Manor Wada Bhiwandi Infrastructure Private Limited; Date of commencement of CIRP: 19th May 2023; List of creditors as on: June 8, 2023
A2: List of secured financial creditors belonging to any class of creditors
A3: (Amount in Rs. )
A4: SI. No. | B4: Name of creditor | C4: Details of claim received | G4: Details of claim admitted | O4: Amount of contingent claim | P4: Amount of any mutual dues, that may be set- off | Q4: Amount of claim not admitted | R4: Amount of claim under verification | S4: Remarks, if any
C5: Date of receipt | D5: Principal Amount Claimed | E5: Interest Amount Claimed | F5: Amount claimed | G5: Principal Amount Admitted | H5: Interest Amount Admitted | I5: Amount of claim admitted | J5: Nature of claim | K5: Amount covered by security interest | L5: Amount covered by guarantee | M5: Whether related party? | N5: % of voting share in CoC
B7: NIL | C7: NIL | D7: 0 | E7: 0 | F7: 0 | G7: 0 | H7: 0 | I7: 0 | J7: 0 | K7: 0 | L7: 0 | M7: 0 | N7: 0 | O7: 0 | P7: 0 | Q7: 0 | R7: 0 | S7: NIL
A8: =COUNT(A6) -> 0 | B8: Total | F8: =SUM(F6) -> 0 | I8: =SUM(I6) -> 0 | J8: =SUM(J6) -> 0 | K8: =SUM(K6) -> 0 | L8: =SUM(L6) -> 0 | M8: =SUM(M6) -> 0 | N8: =SUM(N6) -> 0 | O8: =SUM(O6) -> 0 | P8: =SUM(P6) -> 0 | ... S8: =SUM(S6) -> 0

Sheet Annex 2
A1: ='Main Sheet'!A1 -> Name of the corporate debtor: Supreme Manor Wada Bhiwandi Infrastructure Private Limited; Date of commencement of CIRP: 19th May 2023; List of creditors as on: June 8, 2023
A2: List of unsecured financial creditors belonging to any class of creditors (Amount in Rs.)
A3: SI. No. | B3: Name of Creditor | C3: Details of claim received | G3: Details of claim admitted | N3: Amount of contingent claim | O3: Amount of any mutual dues, that may be set- off | P3: Amount of claim not admitted | Q3: Amount of claim under verification | R3: Remarks, if any
C4: Date of receipt | D4: Principal Amount Claimed (a) | E4: Interest Amount Claimed (b) | F4: Amount claimed (a+b) | G4: Principal Amount Admitted (a) | H4: Interest Amount Admitted (b) | I4: Amount of claim admitted (a+b) | J4: Nature of claim | K4: Amount covered by guarantee | L4: Whether related party? | M4: % of voting share in CoC
B5: NIL | C5: NIL | D5: 0 | E5: 0 | F5: 0 | G5: 0 | H5: 0 | I5: 0 | J5: 0 | K5: 0 | L5: 0 | M5: 0 | N5: 0 | O5: 0 | P5: 0 | Q5: 0 | R5: 0 | S5: NIL

Sheet Annexure 3
A1: Annexure – 3
A2: Name of the corporate debtor: Supreme Manor Wada Bhiwandi Infrastructure Private Limited; Date of commencement of CIRP: 19th May 2023; List of creditors as on: June 8, 2023
A3: List of secured financial creditors (other than financial creditors belonging to any class of creditors)
A4: Sl. No. | B4: Name of creditor | C4: Details of claim received | E4: Details of claim admitted | K4: Amount of contingent claim | L4: Amount of any mutual dues, that may be set-off | M4: Amount of claim not admitted | N4: Amount of claim under verification | O4: Remarks , if any
C5: Date of receipt | D5: Amount claimed | E5: Amount of claim admitted | F5: Nature of claim | G5: Amount covered by security interest | H5: Amount covered by guarantee | I5: Whether related party? | J5: % voting share in CoC
A6: 1 | B6: Union Bank Of India | C6: 45085 | D6: 2.4906396e+09 | E6: =+D6 -> 2.4906396e+09 | F6: Secured Financial Dues | I6: No | J6: =D6/D$13*100 -> 30.199469 | N6: 0
A7: =+A6+1 -> 2 | B7: Bank Of India | C7: 45077 | D7: 1.3357582e+09 | E7: =+D7 -> 1.3357582e+09 | F7: Secured Financial Dues | I7: No | J7: =D7/D$13*100 -> 16.196317 | N7: 0
A8: =+A7+1 -> 3 | B8: JM Financial Asset Reconstruction Company Limited | C8: 45077 | D8: 1225319331 | E8: =+D8 -> 1225319331 | F8: Secured Financial Dues | I8: No | J8: =D8/D$13*100 -> 14.857225 | N8: 0
A9: =+A8+1 -> 4 | B9: Punjab National Bank | C9: 45079 | D9: 1.0503421e+09 | E9: =+D9 -> 1.0503421e+09 | F9: Secured Financial Dues | I9: No | J9: =D9/D$13*100 -> 12.735593 | N9: 0
A10: =+A9+1 -> 5 | B10: Indian Bank | C10: 45072 | D10: 9.7964564e+08 | E10: =+D10 -> 9.7964564e+08 | F10: Secured Financial Dues | I10: No | J10: =D10/D$13*100 -> 11.878386 | N10: 0
A11: =+A10+1 -> 6 | B11: State Bank Of India | C11: 45076 | D11: 8.7002756e+08 | E11: =+D11 -> 8.7002756e+08 | F11: Secured Financial Dues | I11: No | J11: =D11/D$13*100 -> 10.549246 | N11: 0
A12: =+A11+1 -> 7 | B12: Indian Overseas Bank | C12: 45079 | D12: 2.9556357e+08 | E12: =+D12 -> 2.9556357e+08 | F12: Secured Financial Dues | I12: No | J12: =D12/D$13*100 -> 3.5837633 | N12: 0
B13: Total | D13: =+SUM(D6:D12) -> 8.2472959e+09 | E13: =+SUM(E6:E12) -> 8.2472959e+09 | J13: =+SUM(J6:J12) -> 100 | N13: =+SUM(N6:N12) -> 0

Sheet Annex 4
A1: ='Main Sheet'!A1 -> Name of the corporate debtor: Supreme Manor Wada Bhiwandi Infrastructure Private Limited; Date of commencement of CIRP: 19th May 2023; List of creditors as on: June 8, 2023
A2: List of unsecured financial creditors (other than financial creditors belonging to any class of creditors)
A3: (Amount in Rs.)
A4: SI. No. | B4: Name of creditor | C4: Details of claim received | G4: Details of claim admitted | N4: Amount of contingent claim | O4: Amount of any mutual dues, that may beset- off | P4: Amount of claim not admitted | Q4: Amount of claim under verification | R4: Remarks, if any
C5: Date of receipt | D5: Principal Amount Claimed | E5: Interest Amount Claimed | F5: Amount claimed | G5: Principal Amount Admitted | H5: Interest Amount Admitted | I5: Amount of claim admitted | J5: Nature of claim | K5: Amount covered by guarantee | L5: Whether related party? | M5: % of voting share in CoC
B6: NIL | C6: NIL | D6: 0 | E6: 0 | F6: 0 | G6: 0 | H6: 0 | I6: 0 | J6: 0 | K6: 0 | L6: 0 | M6: 0 | N6: 0 | O6: 0 | P6: 0 | Q6: 0 | R6: 0 | S6: NIL
B9: Total | F9: =SUM(F6:F8) -> 0 | G9: =SUM(G6:G8) -> 0 | H9: =SUM(H6:H8) -> 0 | I9: =SUM(I6:I8) -> 0 | J9: =SUM(J6:J8) -> 0 | K9: =SUM(K6:K8) -> 0 | L9: =SUM(L6:L8) -> 0 | M9: =SUM(M6:M8) -> 0 | ... Q9: =SUM(Q6:Q8) -> 0

Sheet Annex 5
A1: ='Main Sheet'!A1 -> Name of the corporate debtor: Supreme Manor Wada Bhiwandi Infrastructure Private Limited; Date of commencement of CIRP: 19th May 2023; List of creditors as on: June 8, 2023
A2: List of operational creditors (Workmen)
A3: (Amount in Rs.)
A4: SI. No. | B4: Name of authorised representative, if any | C4: Name of work man | D4: Details of claim received | J4: Details of claim admitted | N4: Amount of contingent claim | O4: Amount of any mutual dues, that may be set-off | P4: Amount of claim under verification | Q4: Amount of claim not admitted | R4: Remarks, if any
D5: Date of receipt | E5: Principal Amount Claimed | F5: Interest Amount Claimed | G5: Amount claimed | H5: Principal Amount Admitted | I5: Interest Amount Admitted | J5: Amount of claim admitted | K5: Nature of claim | L5: Whether related party? | M5: % voting share in CoC, if applicable
B6: NIL | C6: NIL | D6: 0 | E6: 0 | F6: 0 | G6: 0 | H6: 0 | I6: 0 | J6: 0 | K6: 0 | L6: 0 | M6: 0 | N6: 0 | O6: 0 | P6: 0 | Q6: 0 | R6: 0
A10: =COUNT(A6:A9) -> 0 | B10: Total | G10: =SUM(G6:G9) -> 0 | J10: =SUM(J6:J9) -> 0 | M10: =SUM(M6:M9) -> 0 | N10: =SUM(N6:N9) -> 0 | O10: =SUM(O6:O9) -> 0 | P10: =SUM(P6:P9) -> 0 | Q10: =SUM(Q6:Q9) -> 0

Sheet Annex 6
A1: ='Main Sheet'!A1 -> Name of the corporate debtor: Supreme Manor Wada Bhiwandi Infrastructure Private Limited; Date of commencement of CIRP: 19th May 2023; List of creditors as on: June 8, 2023
A2: List of operational creditors (Employees)
A3: (Amount in Rs.)
A4: SI. No. | B4: Name of authorised representative, if any | C4: Name of employee | D4: Details of claim received | H4: Details of claim admitted | N4: Amount of contingent claim | O4: Amount of any mutual dues, that may be set- off | P4: Amount of claim under verification | Q4: Amount of claim not admitted | R4: Remarks, if any
D5: Date of receipt | E5: Principal Amount Claimed | F5: Interest Amount Claimed | G5: Amount claimed | H5: Principal Amount Admitted | I5: Interest Amount admitted | J5: Amount of claim admitted | K5: Nature of claim | L5: Whether related party? | M5: % of voting share in CoC, if applicable
A6: 1 | B6: NIL | C6: NIL | D6: 0 | E6: 0 | F6: 0 | G6: 0 | H6: 0 | I6: 0 | J6: 0 | K6: 0 | L6: 0 | M6: 0 | N6: 0 | O6: 0 | P6: 0 | Q6: 0 | R6: 0

Sheet Annex 7
A1: ='Main Sheet'!A1 -> Name of the corporate debtor: Supreme Manor Wada Bhiwandi Infrastructure Private Limited; Date of commencement of CIRP: 19th May 2023; List of creditors as on: June 8, 2023
A2: List of operational creditors (Government dues)
A3: (Amount in Rs.)
A4: SI. No. | B4: Details of Claimant | D4: Details of claim received | H4: Details of claim admitted | N4: Amount of contingent claim | O4: Amount of any mutual dues, that may be set-off | P4: Amount of claim not admitted | Q4: Amount of claim under verification | R4: Remarks, if any
B5: Depart ment | C5: Government | D5: Date of receipt | E5: Principal Amount Claimed | F5: Interest Amount Claimed | G5: Amount claimed | H5: Principal Amount Admitted | I5: Interest Amount Admitted | J5: Amount of claim admitted | K5: Nature of claim | L5: Whether related party? | M5: % of voting share in CoC, if applicable
A6: 1 | B6: NIL | C6: NIL | D6: 0 | E6: 0 | F6: 0 | G6: 0 | H6: 0 | I6: 0 | J6: 0 | K6: 0 | L6: 0 | M6: 0 | N6: 0 | O6: 0 | P6: 0 | Q6: 0 | R6: 0
A9: =COUNT(A6:A8) -> 1 | B9: Total | G9: =SUM(G6:G8) -> 0 | J9: =SUM(J6:J8) -> 0 | K9: =SUM(K6:K7) -> 0 | M9: =SUM(M6:M7) -> 0 | N9: =SUM(N6:N7) -> 0 | O9: =SUM(O6:O7) -> 0 | P9: =SUM(P6:P8) -> 0 | Q9: =SUM(Q6:Q7) -> 0

Sheet Annex 8
A1: ='Main Sheet'!A1 -> Name of the corporate debtor: Supreme Manor Wada Bhiwandi Infrastructure Private Limited; Date of commencement of CIRP: 19th May 2023; List of creditors as on: June 8, 2023
A2: List of operational creditors (Other than Workmen and Employees and Government Dues) (Amount in Rs.)
A3: SI. No. | B3: Name of creditor | C3: Details of claim received | G3: Details of claim admitted | O3: Amount of contingent claim | P3: Amount of any mutual dues that may be set-off | Q3: Amount of claim not admitted | R3: Amount of claim under verification | S3: Remarks, if any
C4: Date of receipt | D4: Principal Amount Claimed | E4: Interest amount claimed | F4: Amount claimed | G4: Principal Amount Admitted | H4: Interest amount admitted | I4: Amount of claim admitted | J4: Nature of claim | K4: Amount covered by security interest | L4: Amount covered by guarantee | M4: Whether related party? | N4: % of voting share in CoC
B5: NIL | C5: NIL | D5: 0 | E5: 0 | F5: 0 | G5: 0 | H5: 0 | I5: 0 | J5: 0 | K5: 0 | L5: 0 | M5: 0 | N5: 0 | O5: 0 | P5: 0 | Q5: 0 | R5: 0
F6: =SUM(F5:F5) -> 0 | G6: =SUM(G5:G5) -> 0 | H6: =SUM(H5:H5) -> 0 | I6: =SUM(I5:I5) -> 0 | K6: =SUM(K5:K5) -> 0 | L6: =SUM(L5:L5) -> 0 | N6: =SUM(N5:N5) -> 0 | O6: =SUM(O5:O5) -> 0 | P6: =SUM(P5:P5) -> 0 | Q6: =SUM(Q5:Q5) -> 0 | R6: =SUM(R5:R5) -> 0
I8: ?

Sheet Annex 9
A1: ='Main Sheet'!A1 -> Name of the corporate debtor: Supreme Manor Wada Bhiwandi Infrastructure Private Limited; Date of commencement of CIRP: 19th May 2023; List of creditors as on: June 8, 2023
A2: List of other creditors (Other than financial creditors and operational creditors)
A3: (Amount in Rs.)
A4: SI. No. | B4: Name of creditor | C4: Identification No. | D4: Details of claim received | H4: Details of claim admitted | O4: Amount of contingent claim | P4: Amount of any mutual dues, that may be set- off | Q4: Amount of claim not admitted | R4: Amount of claim under verification | S4: Remarks, if any
D5: Date of receipt | E5: Principal Amount claimed | F5: Interest amount claimed | G5: Amount claimed | H5: Principal amount admitted | I5: Interest Amount admitted | J5: Amount of claim admitted | K5: Nature of claim | L5: Amount covered by security interest | M5: Amount covered by guarantee | N5: Whether related party?
B6: NIL | C6: NIL | D6: 0 | E6: 0 | F6: 0 | G6: 0 | H6: 0 | I6: 0 | J6: 0 | K6: 0 | L6: 0 | M6: 0 | N6: NIL | O6: NIL | P6: NIL | Q6: NIL | R6: NIL
G7: =SUM(G6:G6) -> 0 | J7: =SUM(J6:J6) -> 0 | L7: =SUM(L6:L6) -> 0 | M7: =SUM(M6:M6) -> 0 | O7: =SUM(O6:O6) -> 0 | P7: =SUM(P6:P6) -> 0 | Q7: =SUM(Q6:Q6) -> 0 | R7: =SUM(R6:R6) -> 0

Sheet Queries
A1: 1 | B1: Bank of India
B2: 1 | C2: opening balance mentioned in excel, couldn't trace it
B3: 2 | C3: interest is charged on penal interest as well
B4: 3 | C4: annexure 4, 17 to 27 is pending
A6: 2 | B6: JM Financial Asset Reconstruction Company Limited
B7: 1 | C7: opening balance mentioned in excel, couldn't trace it
B8: 2 | C8: excel working for interest calculation
A10: 3 | B10: Punjab National Bank
B11: 1 | C11: only account statement are available, no documents for saction int etc
B12: 2 | C12: Oriental bank of commerce paper need to discuss
A14: 4 | B14: Indian Banks
B15: 1 | C15: interest working in PDF but need in excel
C16: Pending to check
A18: 5 | B18: State Bank Of India
B19: 1 | C19: interest working and all the annexures are pending
A21: 6 | B21: Indian Overseas Bank
B22: 1 | C22: interest working and all the annexures are pending
A24: 7 | B24: Union Bank Of India
B25: 1 | C25: Form C, Interest working and all the annexures are pending
